BEGIN:VCALENDAR
VERSION:2.0
CALSCALE:GREGORIAN
PRODID:adamgibbons/ics
METHOD:PUBLISH
X-PUBLISHED-TTL:PT1H
BEGIN:VEVENT
UID:1379@keepkarlsruheboring.org
SUMMARY:Critical Mass Karlsruhe
DTSTAMP:20260423T104119Z
DTSTART:20260424T160000Z
URL:https://keepkarlsruheboring.org/event/critical-mass-karlsruhe-13
GEO:49.0086;8.40919
LOCATION:Kronenplatz - Innenstadt-Ost\, Karlsruhe\, Baden-Württemberg\, 761
	33\, Deutschland
STATUS:CONFIRMED
CATEGORIES:Bike,Critical Mass Karlsruhe,Demonstration,Ecology
END:VEVENT
END:VCALENDAR
